BEGIN:VCALENDAR
VERSION:2.0
PRODID:-//Castlerigg Wine Bar - ECPv4.9.1.1//NONSGML v1.0//EN
CALSCALE:GREGORIAN
METHOD:PUBLISH
X-WR-CALNAME:Castlerigg Wine Bar
X-ORIGINAL-URL:https://castleriggwineshop.com
X-WR-CALDESC:Events for Castlerigg Wine Bar
BEGIN:VEVENT
DTSTART;TZID=America/New_York:20250819T150000
DTEND;TZID=America/New_York:20250819T190000
DTSTAMP:20260421T034706
CREATED:20250725T125122Z
LAST-MODIFIED:20250813T125121Z
UID:75731-1755615600-1755630000@castleriggwineshop.com
SUMMARY:Castlerigg at Camp Hill Market on Market- Every Tuesday!
DESCRIPTION:\nVisit us in the parking lot of Trinity Lutheran Church for Camp Hill Market on Market every Tuesday from 3-7pm. \nDon’t forget: Preorders are available at all events\, just email info@castleriggwineshop.com or call 717-462-4663 a MINIMUM of 24 hours ahead of the event. \n
URL:https://castleriggwineshop.com/event/castlerigg-at-camp-hill-market-on-market-every-tuesday-2/
LOCATION:Trinity Camp Hill
ATTACH;FMTTYPE=image/jpeg:https://castleriggwineshop.com/wp-content/uploads/2025/07/75731_image_522648141_1540391730554336_4426376520837972304_n.jpg
END:VEVENT
END:VCALENDAR