BEGIN:VCALENDAR
VERSION:2.0
PRODID:-//Castlerigg Wine Bar - ECPv4.9.1.1//NONSGML v1.0//EN
CALSCALE:GREGORIAN
METHOD:PUBLISH
X-WR-CALNAME:Castlerigg Wine Bar
X-ORIGINAL-URL:https://castleriggwineshop.com
X-WR-CALDESC:Events for Castlerigg Wine Bar
BEGIN:VEVENT
DTSTART;TZID=America/New_York:20231112T130000
DTEND;TZID=America/New_York:20231112T150000
DTSTAMP:20260424T125823
CREATED:20230927T161629Z
LAST-MODIFIED:20231102T142258Z
UID:73565-1699794000-1699801200@castleriggwineshop.com
SUMMARY:CASTLERIGG WINE SHOP HOURS--OPEN 1:00-3:00 P.M. TODAY
DESCRIPTION:\nCastlerigg Wine Shop will be open to the public from 1:00-3:00 p.m. today.  IT’S MURDER MYSTERY DAY and staff need time to set up for the dinner. \nCastlerigg Wine Shop will reopen to the public on Monday\, November 13\, at 11:00 a.m. \n
URL:https://castleriggwineshop.com/event/castlerigg-wine-shop-hours-open-100-300-p-m-today/
LOCATION:Castlerigg Wine Shop
ATTACH;FMTTYPE=image/jpeg:https://castleriggwineshop.com/wp-content/uploads/2023/09/73565_image_377823754_1041988083728039_7965476131739850985_n.jpg
END:VEVENT
BEGIN:VEVENT
DTSTART;TZID=America/New_York:20231112T160000
DTEND;TZID=America/New_York:20231112T180000
DTSTAMP:20260424T125823
CREATED:20230927T161640Z
LAST-MODIFIED:20231102T142258Z
UID:73567-1699804800-1699812000@castleriggwineshop.com
SUMMARY:“Death & the Ghost Writer” Murder Mystery Dinner Event ♥️🍷🔪  8 SEATS LEFT
DESCRIPTION:\n“Death & the Ghost Writer” A Murder Mystery Wine Dinner Event at Castlerigg Wine Shop. ♥️🍷🔪  8 SEATS LEFT 10/17/2023 \nEnjoy a 3-course meal\, wine\, and a play! $100 per person.\nCall Castlerigg Wine Shop to purchase tickets today! 717.462.4663. Seating is limited\, so book today! Mystery performance presented by Players on High\, the live theatre branch of the Carlisle Theatre. \nMENU:\nAPPETIZER\nVegetable Barley Soup\nBread & Butter\nSalad\nServed with Pinot Noir or Moscato \nMAIN COURSE\nGinger Peach Pork Loin\nRoasted Brussel Sprouts\nRoasted Potatoes\nServed with Chardonnay or Riesling \nDESSERT\nPumpkin Cheesecake with Wicked Pumpkin Whipped Cream\nServed Wicked Pumpkin\, General Potter’s Fort\, or Seventh Heaven \n RESERVATIONS REQUIRED TO ATTEND \n
URL:https://castleriggwineshop.com/event/death-the-ghost-writer-murder-mystery-dinner-event-%e2%99%a5%ef%b8%8f%f0%9f%8d%b7%f0%9f%94%aa-3/
LOCATION:Castlerigg Wine Shop
ATTACH;FMTTYPE=image/jpeg:https://castleriggwineshop.com/wp-content/uploads/2023/09/73567_image_378386841_1041983157061865_5009243923422080766_n.jpg
END:VEVENT
END:VCALENDAR