BEGIN:VCALENDAR
VERSION:2.0
PRODID:-//Castlerigg Wine Bar - ECPv4.9.1.1//NONSGML v1.0//EN
CALSCALE:GREGORIAN
METHOD:PUBLISH
X-WR-CALNAME:Castlerigg Wine Bar
X-ORIGINAL-URL:https://castleriggwineshop.com
X-WR-CALDESC:Events for Castlerigg Wine Bar
BEGIN:VEVENT
DTSTART;TZID=America/New_York:20231110T170000
DTEND;TZID=America/New_York:20231110T193000
DTSTAMP:20260424T125316
CREATED:20231102T142247Z
LAST-MODIFIED:20231102T142247Z
UID:73579-1699635600-1699644600@castleriggwineshop.com
SUMMARY:LIVE MUSIC WITH DAN DROPKIN
DESCRIPTION:\nGreat easy listening music by performer Dan Dropkin from 5:00-7:30 p.m.  Dan will be playing for tips as a way to give back to the community.  What could be better than a time of wine & music?  Come in and support Dan’s community service. \n
URL:https://castleriggwineshop.com/event/live-music-with-dan-dropkin-2/
LOCATION:110 S Hanover St\, Carlisle\, PA 17013-3420\, United States
ATTACH;FMTTYPE=image/jpeg:https://castleriggwineshop.com/wp-content/uploads/2023/11/73579_image_393608566_1063895704870610_7318285080319215743_n.jpg
END:VEVENT
END:VCALENDAR