BEGIN:VCALENDAR
VERSION:2.0
PRODID:-//Castlerigg Wine Bar - ECPv4.9.1.1//NONSGML v1.0//EN
CALSCALE:GREGORIAN
METHOD:PUBLISH
X-WR-CALNAME:Castlerigg Wine Bar
X-ORIGINAL-URL:https://castleriggwineshop.com
X-WR-CALDESC:Events for Castlerigg Wine Bar
BEGIN:VEVENT
DTSTART;TZID=America/New_York:20191231T110000
DTEND;TZID=America/New_York:20200101T000000
DTSTAMP:20260421T091403
CREATED:20191207T134526Z
LAST-MODIFIED:20191207T134526Z
UID:18591-1577790000-1577836800@castleriggwineshop.com
SUMMARY:Special Holiday Hours
DESCRIPTION:\nOpen on a rare Tuesday for your last minute New Years wine needs. We will stay open until midnight as well. In case you are looking for something to do. \n
URL:https://castleriggwineshop.com/event/special-holiday-hours-6/
ATTACH;FMTTYPE=image/jpeg:https://castleriggwineshop.com/wp-content/uploads/2019/12/18546_image_75308445_1293272427541757_3725560739717447680_o.jpg
END:VEVENT
END:VCALENDAR