BEGIN:VCALENDAR
VERSION:2.0
PRODID:-//Castlerigg Wine Bar - ECPv4.9.1.1//NONSGML v1.0//EN
CALSCALE:GREGORIAN
METHOD:PUBLISH
X-WR-CALNAME:Castlerigg Wine Bar
X-ORIGINAL-URL:https://castleriggwineshop.com
X-WR-CALDESC:Events for Castlerigg Wine Bar
BEGIN:VEVENT
DTSTART;TZID=America/New_York:20230915T180000
DTEND;TZID=America/New_York:20230915T210000
DTSTAMP:20260421T092250
CREATED:20230909T134427Z
LAST-MODIFIED:20230910T134111Z
UID:73495-1694800800-1694811600@castleriggwineshop.com
SUMMARY:sip @ soma featuring Castlerigg Wine Shop | September 2023
DESCRIPTION:\nCastlerigg Wine Shop takes residency at sip @ soma’s pop-up tasting room on Sept. 14-15!  \nOn Thursday\, Sept. 14\, featuring Kreamer Kreations artisan jewelry and Cocoa Creek Chocolates!  \nFor 3rd in the Burg on Friday\, Sept. 15\, catch live music from Dave McCullough\, plus a Macrame Wine Charm class with Why Knot! \n
URL:https://castleriggwineshop.com/event/sip-soma-featuring-castlerigg-wine-shop-september-2023-3/
ATTACH;FMTTYPE=image/jpeg:https://castleriggwineshop.com/wp-content/uploads/2023/09/73495_image_365993269_791213479675079_8486789297796012594_n.jpg
END:VEVENT
END:VCALENDAR