BEGIN:VCALENDAR
VERSION:2.0
PRODID:-//Castlerigg Wine Bar - ECPv4.9.1.1//NONSGML v1.0//EN
CALSCALE:GREGORIAN
METHOD:PUBLISH
X-WR-CALNAME:Castlerigg Wine Bar
X-ORIGINAL-URL:https://castleriggwineshop.com
X-WR-CALDESC:Events for Castlerigg Wine Bar
BEGIN:VEVENT
DTSTART;TZID=America/New_York:20231124T173000
DTEND;TZID=America/New_York:20231124T203000
DTSTAMP:20260423T082026
CREATED:20231102T142353Z
LAST-MODIFIED:20231102T142353Z
UID:73598-1700847000-1700857800@castleriggwineshop.com
SUMMARY:LIVE MUSIC WITH ABIGAILS GARDEN
DESCRIPTION:\nGreat folk and Irish music by Abigail’s Garden from 5:30-8:30 p.m.  What could be better than a time of wine & music? \n
URL:https://castleriggwineshop.com/event/live-music-with-abigails-garden/
LOCATION:110 S Hanover St\, Carlisle\, PA 17013-3420\, United States
ATTACH;FMTTYPE=image/jpeg:https://castleriggwineshop.com/wp-content/uploads/2023/11/73598_image_393508031_1063910904869090_5292904415597464783_n.jpg
END:VEVENT
END:VCALENDAR