BEGIN:VCALENDAR
VERSION:2.0
PRODID:-//Castlerigg Wine Bar - ECPv4.9.1.1//NONSGML v1.0//EN
CALSCALE:GREGORIAN
METHOD:PUBLISH
X-WR-CALNAME:Castlerigg Wine Bar
X-ORIGINAL-URL:https://castleriggwineshop.com
X-WR-CALDESC:Events for Castlerigg Wine Bar
BEGIN:VEVENT
DTSTART;TZID=America/New_York:20231012T183000
DTEND;TZID=America/New_York:20231012T200000
DTSTAMP:20260421T091929
CREATED:20230910T134140Z
LAST-MODIFIED:20230927T161543Z
UID:73528-1697135400-1697140800@castleriggwineshop.com
SUMMARY:Large Succulent 2-Tier Driftwood Planter
DESCRIPTION:\nJoin Plantscapes By Design to create a succulent landscape in this large\, 2-tier driftwood planter (cement\, 4″H x 10″W x 6″D). This planter resembles realistic wood texture and is the perfect way to bring the outdoors inside for the Fall and Winter seasons! The Ladies from Plantscapes will bring all the materials needed and step you through the process to create this beautiful centerpiece planter!  \nCome hungry and enjoy delicious house-made appetizers\, wine\, craft beer\, soda\, coffee\, tea while you plant! \nTickets $40\nProcessing Fee $2.50\nPurchase tickets at https://square.link/u/QrRvFd83 \n
URL:https://castleriggwineshop.com/event/large-succulent-2-tier-driftwood-planter-2/
ATTACH;FMTTYPE=image/jpeg:https://castleriggwineshop.com/wp-content/uploads/2023/09/73528_image_378389953_1042739486986232_7096614434267836605_n.jpg
END:VEVENT
END:VCALENDAR