BEGIN:VCALENDAR
VERSION:2.0
PRODID:-//Castlerigg Wine Bar - ECPv4.9.1.1//NONSGML v1.0//EN
CALSCALE:GREGORIAN
METHOD:PUBLISH
X-WR-CALNAME:Castlerigg Wine Bar
X-ORIGINAL-URL:https://castleriggwineshop.com
X-WR-CALDESC:Events for Castlerigg Wine Bar
BEGIN:VEVENT
DTSTART;TZID=America/New_York:20231029T170000
DTEND;TZID=America/New_York:20231029T190000
DTSTAMP:20260421T130354
CREATED:20230927T161623Z
LAST-MODIFIED:20230927T161623Z
UID:73563-1698598800-1698606000@castleriggwineshop.com
SUMMARY:“Death & the Ghost Writer” Murder Mystery Dinner Event ♥️🍷🔪
DESCRIPTION:\n“Death & the Ghost Writer” A Murder Mystery Wine Dinner Event at Castlerigg Wine Shop. ♥️🍷🔪 \nEnjoy a 3-course meal\, wine\, and a play! $100 per person.\nCall Castlerigg Wine Shop to purchase tickets today! 717.462.4663. Seating is limited\, so book today! Mystery performance presented by Players on High\, the live theatre branch of the Carlisle Theatre. \n RESERVATIONS REQUIRED TO ATTEND \n
URL:https://castleriggwineshop.com/event/death-the-ghost-writer-murder-mystery-dinner-event-%e2%99%a5%ef%b8%8f%f0%9f%8d%b7%f0%9f%94%aa-2/
ATTACH;FMTTYPE=image/jpeg:https://castleriggwineshop.com/wp-content/uploads/2023/09/73563_image_378018226_1041982483728599_5148725123029969500_n.jpg
END:VEVENT
END:VCALENDAR