BEGIN:VCALENDAR
VERSION:2.0
PRODID:-//Castlerigg Wine Bar - ECPv4.9.1.1//NONSGML v1.0//EN
CALSCALE:GREGORIAN
METHOD:PUBLISH
X-WR-CALNAME:Castlerigg Wine Bar
X-ORIGINAL-URL:https://castleriggwineshop.com
X-WR-CALDESC:Events for Castlerigg Wine Bar
BEGIN:VEVENT
DTSTART;TZID=America/New_York:20250823T190000
DTEND;TZID=America/New_York:20250823T210000
DTSTAMP:20260421T050047
CREATED:20250725T125109Z
LAST-MODIFIED:20250813T125119Z
UID:75719-1755975600-1755982800@castleriggwineshop.com
SUMMARY:Corvette Parade- Outside Bar
DESCRIPTION:\nEnjoy delicious wines at our outside bar during the 2025 Corvette Parade! \n
URL:https://castleriggwineshop.com/event/corvette-parade-outside-bar/
LOCATION:110 S Hanover St\, Carlisle\, PA\, United States\, Pennsylvania 17013
ATTACH;FMTTYPE=image/jpeg:https://castleriggwineshop.com/wp-content/uploads/2025/07/75719_image_522805610_1540378587222317_103835039112599505_n.jpg
END:VEVENT
END:VCALENDAR