BEGIN:VCALENDAR
VERSION:2.0
PRODID:-//Castlerigg Wine Bar - ECPv4.9.1.1//NONSGML v1.0//EN
CALSCALE:GREGORIAN
METHOD:PUBLISH
X-WR-CALNAME:Castlerigg Wine Bar
X-ORIGINAL-URL:https://castleriggwineshop.com
X-WR-CALDESC:Events for Castlerigg Wine Bar
BEGIN:VEVENT
DTSTART;TZID=America/New_York:20230916T193000
DTEND;TZID=America/New_York:20230916T210000
DTSTAMP:20260421T090922
CREATED:20230910T134118Z
LAST-MODIFIED:20230910T134118Z
UID:73520-1694892600-1694898000@castleriggwineshop.com
SUMMARY:COMEDY NIGHT
DESCRIPTION:\nPlease join Castlerigg Wine Shop for a hilarious night of belly laughs\, good wine\, and delicious appetizers.  A great show of some of the best comedians the region has to offer.  Free to attend. \nReservations strongly recommended. If seated in the Retail Room\, you will be able to hear the comedians’ routines but you will not see them.  Call 717-462-4663 to reserve your seat. \n
URL:https://castleriggwineshop.com/event/comedy-night-2/
ATTACH;FMTTYPE=image/jpeg:https://castleriggwineshop.com/wp-content/uploads/2023/09/73520_image_369607292_1027955958464585_4563277014642240084_n.jpg
END:VEVENT
END:VCALENDAR