BEGIN:VCALENDAR
VERSION:2.0
PRODID:-//Castlerigg Wine Bar - ECPv4.9.1.1//NONSGML v1.0//EN
CALSCALE:GREGORIAN
METHOD:PUBLISH
X-WR-CALNAME:Castlerigg Wine Bar
X-ORIGINAL-URL:https://castleriggwineshop.com
X-WR-CALDESC:Events for Castlerigg Wine Bar
BEGIN:VEVENT
DTSTART;TZID=America/New_York:20191214T100000
DTEND;TZID=America/New_York:20191214T180000
DTSTAMP:20260421T075057
CREATED:20191207T134516Z
LAST-MODIFIED:20191207T134516Z
UID:18582-1576317600-1576346400@castleriggwineshop.com
SUMMARY:Christkindlmarkt
DESCRIPTION:\nTraditional Christmas Market at the historic Dills Tavern in Dillsburg. \n
URL:https://castleriggwineshop.com/event/christkindlmarkt-2/
ATTACH;FMTTYPE=image/jpeg:https://castleriggwineshop.com/wp-content/uploads/2019/12/18534_image_76644638_1293264684209198_8755263280680796160_o.jpg
END:VEVENT
END:VCALENDAR