BEGIN:VCALENDAR
VERSION:2.0
PRODID:-//Castlerigg Wine Bar - ECPv4.9.1.1//NONSGML v1.0//EN
CALSCALE:GREGORIAN
METHOD:PUBLISH
X-WR-CALNAME:Castlerigg Wine Bar
X-ORIGINAL-URL:https://castleriggwineshop.com
X-WR-CALDESC:Events for Castlerigg Wine Bar
BEGIN:VEVENT
DTSTART;TZID=America/New_York:20231122T100000
DTEND;TZID=America/New_York:20231122T180000
DTSTAMP:20260421T080253
CREATED:20231102T142322Z
LAST-MODIFIED:20231102T142322Z
UID:73592-1700647200-1700676000@castleriggwineshop.com
SUMMARY:CASTLERIGG WINE SHOP HOURS--OPEN 10:00-6:00 P.M. TODAY
DESCRIPTION:\nCastlerigg Wine Shop will be open to the public from 10:00-6:00 p.m. today.  The kitchen will be open from 1:00-5:30 p.m. \nCome get your wine for Thanksgiving! \n
URL:https://castleriggwineshop.com/event/castlerigg-wine-shop-hours-open-1000-600-p-m-today/
LOCATION:Castlerigg Wine Shop
ATTACH;FMTTYPE=image/jpeg:https://castleriggwineshop.com/wp-content/uploads/2023/11/73592_image_393429515_1063903758203138_6533182690754702763_n.jpg
END:VEVENT
END:VCALENDAR