BEGIN:VCALENDAR
VERSION:2.0
PRODID:-//Castlerigg Wine Bar - ECPv4.9.1.1//NONSGML v1.0//EN
CALSCALE:GREGORIAN
METHOD:PUBLISH
X-WR-CALNAME:Castlerigg Wine Bar
X-ORIGINAL-URL:https://castleriggwineshop.com
X-WR-CALDESC:Events for Castlerigg Wine Bar
BEGIN:VEVENT
DTSTART;TZID=America/New_York:20231124T100000
DTEND;TZID=America/New_York:20231124T210000
DTSTAMP:20260421T080030
CREATED:20231102T142345Z
LAST-MODIFIED:20231102T142345Z
UID:73596-1700820000-1700859600@castleriggwineshop.com
SUMMARY:CASTLERIGG WINE SHOP HOURS--IT'S OUR 10TH ANNIVERSARY!
DESCRIPTION:\nCastlerigg will be open from 10:00 a.m. – 9:00 p.m.  It’s our 10th Anniversary!!!!!  The kitchen will be open 12:00-8:30 p.m.  If you need a break from your Black Friday shopping\, come on in and celebrate with us!  We will have ABIGAIL’S GARDEN performing from 5:30-8:30 p.m.  Great folk/Irish music. \n
URL:https://castleriggwineshop.com/event/castlerigg-wine-shop-hours-its-our-10th-anniversary/
LOCATION:Castlerigg Wine Shop
ATTACH;FMTTYPE=image/jpeg:https://castleriggwineshop.com/wp-content/uploads/2023/11/73596_image_393711555_1063909198202594_93293616390242690_n.jpg
END:VEVENT
END:VCALENDAR