BEGIN:VCALENDAR
VERSION:2.0
PRODID:-//Castlerigg Wine Bar - ECPv4.9.1.1//NONSGML v1.0//EN
CALSCALE:GREGORIAN
METHOD:PUBLISH
X-WR-CALNAME:Castlerigg Wine Bar
X-ORIGINAL-URL:https://castleriggwineshop.com
X-WR-CALDESC:Events for Castlerigg Wine Bar
BEGIN:VEVENT
DTSTART;TZID=America/New_York:20231125T100000
DTEND;TZID=America/New_York:20231125T210000
DTSTAMP:20260421T075545
CREATED:20231102T142357Z
LAST-MODIFIED:20231102T142357Z
UID:73600-1700906400-1700946000@castleriggwineshop.com
SUMMARY:CASTLERIGG WINE SHOP HOURS--IT'S OUR 10TH ANNIVERSARY!
DESCRIPTION:\nCastlerigg will be open from 10:00 a.m. – 9:00 p.m.  It’s our 10th Anniversary!!!!!  The kitchen will be open 11:00-8:30 p.m.  If you need a break from your Small Business Saturday shopping\, come on in and celebrate with us!  We will have NORTH MT. RAMBLERS performing from 5:30-8:30 p.m.  Great classic rock music. \n
URL:https://castleriggwineshop.com/event/castlerigg-wine-shop-hours-its-our-10th-anniversary-2/
LOCATION:Castlerigg Wine Shop
ATTACH;FMTTYPE=image/jpeg:https://castleriggwineshop.com/wp-content/uploads/2023/11/73600_image_393596554_1063983008195213_4654142651635965261_n.jpg
END:VEVENT
END:VCALENDAR