BEGIN:VCALENDAR
VERSION:2.0
PRODID:-//Castlerigg Wine Bar - ECPv4.9.1.1//NONSGML v1.0//EN
CALSCALE:GREGORIAN
METHOD:PUBLISH
X-WR-CALNAME:Castlerigg Wine Bar
X-ORIGINAL-URL:https://castleriggwineshop.com
X-WR-CALDESC:Events for Castlerigg Wine Bar
BEGIN:VEVENT
DTSTART;TZID=America/New_York:20231119T000000
DTEND;TZID=America/New_York:20231119T234500
DTSTAMP:20260421T090310
CREATED:20231102T142314Z
LAST-MODIFIED:20231102T142314Z
UID:73590-1700352000-1700437500@castleriggwineshop.com
SUMMARY:CASTLERIGG WINE SHOP CLOSED
DESCRIPTION:\nCastlerigg is closed today to host a private event. \nWe will reopen to the public on Monday\, November 20\, 2023\, at 11:00 a.m. \n
URL:https://castleriggwineshop.com/event/castlerigg-wine-shop-closed/
LOCATION:Castlerigg Wine Shop\, 110 S Hanover St\, Carlisle\, PA\, 17013\, US
ATTACH;FMTTYPE=image/jpeg:https://castleriggwineshop.com/wp-content/uploads/2023/11/73590_image_393663544_1063902898203224_7882530750528382221_n.jpg
END:VEVENT
END:VCALENDAR