BEGIN:VCALENDAR
VERSION:2.0
PRODID:-//Castlerigg Wine Bar - ECPv4.9.1.1//NONSGML v1.0//EN
CALSCALE:GREGORIAN
METHOD:PUBLISH
X-WR-CALNAME:Castlerigg Wine Bar
X-ORIGINAL-URL:https://castleriggwineshop.com
X-WR-CALDESC:Events for Castlerigg Wine Bar
BEGIN:VEVENT
DTSTART;TZID=America/New_York:20231029T000000
DTEND;TZID=America/New_York:20231029T234500
DTSTAMP:20260421T155038
CREATED:20230927T161603Z
LAST-MODIFIED:20230927T161603Z
UID:73559-1698537600-1698623100@castleriggwineshop.com
SUMMARY:CASTLERIGG WINE SHOP CLOSED--BOTTLES TO GO ONLY
DESCRIPTION:\nCastlerigg is closed today to host ‘DEATH AND THE GHOST WRITER’ Murder Mystery Dinner.  We will sell the public BOTTLES TO GO only. \nWe will reopen to the public on Monday\, October 30\, 2023\, at 11:00 a.m. \n
URL:https://castleriggwineshop.com/event/castlerigg-wine-shop-closed-bottles-to-go-only/
ATTACH;FMTTYPE=image/jpeg:https://castleriggwineshop.com/wp-content/uploads/2023/09/73559_image_378067825_1041986637061517_5376755775575941508_n.jpg
END:VEVENT
END:VCALENDAR