BEGIN:VCALENDAR
VERSION:2.0
PRODID:-//Castlerigg Wine Bar - ECPv4.9.1.1//NONSGML v1.0//EN
CALSCALE:GREGORIAN
METHOD:PUBLISH
X-WR-CALNAME:Castlerigg Wine Bar
X-ORIGINAL-URL:https://castleriggwineshop.com
X-WR-CALDESC:Events for Castlerigg Wine Bar
BEGIN:VEVENT
DTSTART;TZID=America/New_York:20231123T000000
DTEND;TZID=America/New_York:20231123T234500
DTSTAMP:20260421T075148
CREATED:20231102T142332Z
LAST-MODIFIED:20231102T142332Z
UID:73594-1700697600-1700783100@castleriggwineshop.com
SUMMARY:CASTLERIGG WINE SHOP CLOSED
DESCRIPTION:\nCastlerigg is closed today to enjoy Thanksgiving. \nWe will reopen to the public on Friday\, November 24\, 2023\, at 10:00 a.m. \n
URL:https://castleriggwineshop.com/event/castlerigg-wine-shop-closed-2/
LOCATION:Castlerigg Wine Shop\, 110 S Hanover St\, Carlisle\, PA\, 17013\, US
ATTACH;FMTTYPE=image/jpeg:https://castleriggwineshop.com/wp-content/uploads/2023/11/73594_image_393471617_1063905404869640_7650087749094548974_n.jpg
END:VEVENT
END:VCALENDAR