BEGIN:VCALENDAR
VERSION:2.0
PRODID:-//Castlerigg Wine Bar - ECPv4.9.1.1//NONSGML v1.0//EN
CALSCALE:GREGORIAN
METHOD:PUBLISH
X-WR-CALNAME:Castlerigg Wine Bar
X-ORIGINAL-URL:https://castleriggwineshop.com
X-WR-CALDESC:Events for Castlerigg Wine Bar
BEGIN:VEVENT
DTSTART;TZID=America/New_York:20250829T090000
DTEND;TZID=America/New_York:20250829T160000
DTSTAMP:20260421T050516
CREATED:20250726T125717Z
LAST-MODIFIED:20250813T125119Z
UID:75740-1756458000-1756483200@castleriggwineshop.com
SUMMARY:Castlerigg at PA Open Air Farmers Market
DESCRIPTION:\nWe will be located at the Northeast corner of the Farm Show Complex. Come enjoy delicious wine! \nDon’t forget: Special orders are welcome at all events. Just email info@castleriggwineshop.com or call 717-462-4663 a MINIMUM of 24 hours ahead of the event. \n
URL:https://castleriggwineshop.com/event/castlerigg-at-pa-open-air-farmers-market/
LOCATION:2300 N Cameron St\, Harrisburg\, PA 17110-9443\, United States
ATTACH;FMTTYPE=image/jpeg:https://castleriggwineshop.com/wp-content/uploads/2025/07/75740_image_523356713_1541276817132494_7698576901745710529_n.jpg
END:VEVENT
END:VCALENDAR