BEGIN:VCALENDAR
VERSION:2.0
PRODID:-//Castlerigg Wine Bar - ECPv4.9.1.1//NONSGML v1.0//EN
CALSCALE:GREGORIAN
METHOD:PUBLISH
X-WR-CALNAME:Castlerigg Wine Bar
X-ORIGINAL-URL:https://castleriggwineshop.com
X-WR-CALDESC:Events for Castlerigg Wine Bar
BEGIN:VEVENT
DTSTART;TZID=America/New_York:20231008T130000
DTEND;TZID=America/New_York:20231008T160000
DTSTAMP:20260421T090840
CREATED:20230927T161539Z
LAST-MODIFIED:20230927T161539Z
UID:73549-1696770000-1696780800@castleriggwineshop.com
SUMMARY:BREAST CANCER FUNDRAISER
DESCRIPTION:\nCome enjoy wine and appetizers for a great cause!  10% of Castlerigg proceeds will go to the PA Breast Cancer Coalition.  A donation stand will be available\, as well as a 50/50 raffle drawing! Honor some of our local breast cancer survivors and raise awareness! \nAcoustic music will be provided by Katie Dimiano\, a breast cancer survivor.    \nIf you would like to reserve a table\, please call 717-462-4663. \n
URL:https://castleriggwineshop.com/event/breast-cancer-fundraiser/
ATTACH;FMTTYPE=image/jpeg:https://castleriggwineshop.com/wp-content/uploads/2023/09/73549_image_378322607_1041965340396980_2800293894896002909_n.jpg
END:VEVENT
END:VCALENDAR